BEGIN:VCALENDAR
VERSION:2.0
PRODID:-//Rocky Vista University - ECPv6.15.20//NONSGML v1.0//EN
CALSCALE:GREGORIAN
METHOD:PUBLISH
X-ORIGINAL-URL:https://www.rvu.edu
X-WR-CALDESC:Events for Rocky Vista University
REFRESH-INTERVAL;VALUE=DURATION:PT1H
X-Robots-Tag:noindex
X-PUBLISHED-TTL:PT1H
BEGIN:VTIMEZONE
TZID:America/Denver
BEGIN:DAYLIGHT
TZOFFSETFROM:-0700
TZOFFSETTO:-0600
TZNAME:MDT
DTSTART:20240310T090000
END:DAYLIGHT
BEGIN:STANDARD
TZOFFSETFROM:-0600
TZOFFSETTO:-0700
TZNAME:MST
DTSTART:20241103T080000
END:STANDARD
BEGIN:DAYLIGHT
TZOFFSETFROM:-0700
TZOFFSETTO:-0600
TZNAME:MDT
DTSTART:20250309T090000
END:DAYLIGHT
BEGIN:STANDARD
TZOFFSETFROM:-0600
TZOFFSETTO:-0700
TZNAME:MST
DTSTART:20251102T080000
END:STANDARD
BEGIN:DAYLIGHT
TZOFFSETFROM:-0700
TZOFFSETTO:-0600
TZNAME:MDT
DTSTART:20260308T090000
END:DAYLIGHT
BEGIN:STANDARD
TZOFFSETFROM:-0600
TZOFFSETTO:-0700
TZNAME:MST
DTSTART:20261101T080000
END:STANDARD
END:VTIMEZONE
BEGIN:VEVENT
DTSTART;TZID=America/Denver:20250519T120000
DTEND;TZID=America/Denver:20250519T130000
DTSTAMP:20260425T133702
CREATED:20250506T165535Z
LAST-MODIFIED:20250506T165535Z
UID:10000323-1747656000-1747659600@www.rvu.edu
SUMMARY:Lunch and Learn with CARE Team
DESCRIPTION:The Colorado/Utah CARE Team will be launching occasional Lunch and Learns starting in May. For the first 15 to 30 minutes of each lunch-and-learn\, they will present on a topic\, followed by an open Q&A session. The team will record the presentation for future reference. During the Q&A session\, the CARE Team requests that questions be general. If you have a situation-specific question\, please contact the CARE Team at caretream@rvu.edu to schedule an individual meeting.
URL:https://www.rvu.edu/event/lunch-and-learn-with-care-team/
LOCATION:Virtual
END:VEVENT
END:VCALENDAR