BEGIN:VCALENDAR
VERSION:2.0
PRODID:-//Rocky Vista University - ECPv6.15.20//NONSGML v1.0//EN
CALSCALE:GREGORIAN
METHOD:PUBLISH
X-WR-CALNAME:Rocky Vista University
X-ORIGINAL-URL:https://www.rvu.edu
X-WR-CALDESC:Events for Rocky Vista University
REFRESH-INTERVAL;VALUE=DURATION:PT1H
X-Robots-Tag:noindex
X-PUBLISHED-TTL:PT1H
BEGIN:VTIMEZONE
TZID:America/Denver
BEGIN:DAYLIGHT
TZOFFSETFROM:-0700
TZOFFSETTO:-0600
TZNAME:MDT
DTSTART:20240310T090000
END:DAYLIGHT
BEGIN:STANDARD
TZOFFSETFROM:-0600
TZOFFSETTO:-0700
TZNAME:MST
DTSTART:20241103T080000
END:STANDARD
BEGIN:DAYLIGHT
TZOFFSETFROM:-0700
TZOFFSETTO:-0600
TZNAME:MDT
DTSTART:20250309T090000
END:DAYLIGHT
BEGIN:STANDARD
TZOFFSETFROM:-0600
TZOFFSETTO:-0700
TZNAME:MST
DTSTART:20251102T080000
END:STANDARD
BEGIN:DAYLIGHT
TZOFFSETFROM:-0700
TZOFFSETTO:-0600
TZNAME:MDT
DTSTART:20260308T090000
END:DAYLIGHT
BEGIN:STANDARD
TZOFFSETFROM:-0600
TZOFFSETTO:-0700
TZNAME:MST
DTSTART:20261101T080000
END:STANDARD
END:VTIMEZONE
BEGIN:VEVENT
DTSTART;TZID=America/Denver:20250522T110000
DTEND;TZID=America/Denver:20250522T130000
DTSTAMP:20260425T150814
CREATED:20250520T192744Z
LAST-MODIFIED:20250520T192744Z
UID:10000328-1747911600-1747918800@www.rvu.edu
SUMMARY:Spring Research Day
DESCRIPTION:Spring Research Day is a mini Research Day. Posters swill be set up throughout the 2nd Floor Hallways. Students who have been accepted will display and have the opportunity to present their posters to viewers. The posters will not be judged. During the poster session there will be tables set up with light lunch items.
URL:https://www.rvu.edu/event/spring-research-day/
END:VEVENT
END:VCALENDAR