BEGIN:VCALENDAR
VERSION:2.0
PRODID:-//Rocky Vista University - ECPv6.15.20//NONSGML v1.0//EN
CALSCALE:GREGORIAN
METHOD:PUBLISH
X-ORIGINAL-URL:https://www.rvu.edu
X-WR-CALDESC:Events for Rocky Vista University
REFRESH-INTERVAL;VALUE=DURATION:PT1H
X-Robots-Tag:noindex
X-PUBLISHED-TTL:PT1H
BEGIN:VTIMEZONE
TZID:America/Denver
BEGIN:DAYLIGHT
TZOFFSETFROM:-0700
TZOFFSETTO:-0600
TZNAME:MDT
DTSTART:20250309T090000
END:DAYLIGHT
BEGIN:STANDARD
TZOFFSETFROM:-0600
TZOFFSETTO:-0700
TZNAME:MST
DTSTART:20251102T080000
END:STANDARD
BEGIN:DAYLIGHT
TZOFFSETFROM:-0700
TZOFFSETTO:-0600
TZNAME:MDT
DTSTART:20260308T090000
END:DAYLIGHT
BEGIN:STANDARD
TZOFFSETFROM:-0600
TZOFFSETTO:-0700
TZNAME:MST
DTSTART:20261101T080000
END:STANDARD
BEGIN:DAYLIGHT
TZOFFSETFROM:-0700
TZOFFSETTO:-0600
TZNAME:MDT
DTSTART:20270314T090000
END:DAYLIGHT
BEGIN:STANDARD
TZOFFSETFROM:-0600
TZOFFSETTO:-0700
TZNAME:MST
DTSTART:20271107T080000
END:STANDARD
END:VTIMEZONE
BEGIN:VEVENT
DTSTART;TZID=America/Denver:20260411T090000
DTEND;TZID=America/Denver:20260411T153000
DTSTAMP:20260425T121442
CREATED:20260331T213557Z
LAST-MODIFIED:20260331T213744Z
UID:10000357-1775898000-1775921400@www.rvu.edu
SUMMARY:2nd Annual Women's Health and Wellness Conference 2026
DESCRIPTION:RVUCOM students are excited to host the 2nd Annual Women’s Health & Wellness Conference at our Parker campus\, and we would love for you to join us! This free\, student-led event is a great opportunity in Colorado designed specifically to bring medical education directly to the community in an engaging and welcoming way. The goal is simple: to empower women with the knowledge\, resources\, and confidence to take charge of their health. The conference will feature inspiring speakers\, interactive discussions on important women’s health topics\, and plenty of opportunities to connect with others in the community. Attendees will enjoy complimentary breakfast and lunch\, fun giveaways\, and a supportive environment focused on learning and wellness. Local physicians (MD/DO) can also earn 3.25 AOA Category 1-A CME credits for attending. Whether you’re looking to learn something new\, ask questions\, or simply connect with others\, we hope you’ll join us for a day dedicated to your health and well-being!\n\nRegister
URL:https://www.rvu.edu/event/2nd-annual-womens-health-and-wellness-conference-2026/
ATTACH;FMTTYPE=application/pdf:https://www.rvu.edu/wp-content/uploads/Final-Physician-WHWC-Poster-2026-ENG.pdf
END:VEVENT
END:VCALENDAR